BEGIN:VCALENDAR
PRODID:-//github.com/rianjs/ical.net//NONSGML ical.net 4.0//EN
VERSION:2.0
BEGIN:VTIMEZONE
TZID:Eastern Standard Time
X-LIC-LOCATION:America/New_York
BEGIN:STANDARD
DTSTART:20241103T020000
RRULE:FREQ=YEARLY;BYDAY=1SU;BYMONTH=11
TZNAME:EST
TZOFFSETFROM:-0400
TZOFFSETTO:-0500
END:STANDARD
BEGIN:DAYLIGHT
DTSTART:20250309T020000
RRULE:FREQ=YEARLY;BYDAY=2SU;BYMONTH=3
TZNAME:EDT
TZOFFSETFROM:-0500
TZOFFSETTO:-0400
END:DAYLIGHT
END:VTIMEZONE
BEGIN:VEVENT
DESCRIPTION:2023 Annual Meeting by the American Academy of Neurology\n\nTi
 tle: Making Time for Meditation with a Busy Schedule (Wellness Hub)\n\nAc
 cess URL: https://www.aan.com/msa/Public/Events/GetEventURL/15976\n\nLear
 n More About This Event: https://www.aan.com/msa/Public/Events/Details/15
 976
DTEND;TZID=Eastern Standard Time:20230427T133000
DTSTAMP:20260423T213615Z
DTSTART;TZID=Eastern Standard Time:20230427T130000
LOCATION:https://www.aan.com/msa/Public/Events/GetEventURL/15976
SEQUENCE:0
SUMMARY:AAN: Making Time for Meditation with a Busy Schedule (Wellness Hub)
UID:6adb3eda-a7bd-42b2-8326-a9c7d2eca58e
END:VEVENT
END:VCALENDAR
