BEGIN:VCALENDAR
PRODID:-//github.com/rianjs/ical.net//NONSGML ical.net 4.0//EN
VERSION:2.0
BEGIN:VTIMEZONE
TZID:Eastern Standard Time
X-LIC-LOCATION:America/New_York
BEGIN:STANDARD
DTSTART:20241103T020000
RRULE:FREQ=YEARLY;BYDAY=1SU;BYMONTH=11
TZNAME:EST
TZOFFSETFROM:-0400
TZOFFSETTO:-0500
END:STANDARD
BEGIN:DAYLIGHT
DTSTART:20250309T020000
RRULE:FREQ=YEARLY;BYDAY=2SU;BYMONTH=3
TZNAME:EDT
TZOFFSETFROM:-0500
TZOFFSETTO:-0400
END:DAYLIGHT
END:VTIMEZONE
BEGIN:VEVENT
DESCRIPTION:2023 Annual Meeting by the American Academy of Neurology\n\nTi
 tle: Preparing Research Manuscripts for Publication in Neurologic Journal
 s (Research Hub)\n\nAccess URL: https://www.aan.com/msa/Public/Events/Get
 EventURL/15987\n\nLearn More About This Event: https://www.aan.com/msa/Pu
 blic/Events/Details/15987
DTEND;TZID=Eastern Standard Time:20230423T144500
DTSTAMP:20260424T053603Z
DTSTART;TZID=Eastern Standard Time:20230423T140000
LOCATION:https://www.aan.com/msa/Public/Events/GetEventURL/15987
SEQUENCE:0
SUMMARY:AAN: Preparing Research Manuscripts for Publication in Neurologic 
 Journals (Research Hub)
UID:54ed3b33-173c-40a4-abb9-893f09c587ca
END:VEVENT
END:VCALENDAR
