BEGIN:VCALENDAR
PRODID:-//github.com/rianjs/ical.net//NONSGML ical.net 4.0//EN
VERSION:2.0
BEGIN:VTIMEZONE
TZID:Eastern Standard Time
X-LIC-LOCATION:America/New_York
BEGIN:STANDARD
DTSTART:20241103T020000
RRULE:FREQ=YEARLY;BYDAY=1SU;BYMONTH=11
TZNAME:EST
TZOFFSETFROM:-0400
TZOFFSETTO:-0500
END:STANDARD
BEGIN:DAYLIGHT
DTSTART:20250309T020000
RRULE:FREQ=YEARLY;BYDAY=2SU;BYMONTH=3
TZNAME:EDT
TZOFFSETFROM:-0500
TZOFFSETTO:-0400
END:DAYLIGHT
END:VTIMEZONE
BEGIN:VEVENT
DESCRIPTION:2023 Annual Meeting by the American Academy of Neurology\n\nTi
 tle: Brain Health Research Funding Opportunities from the American Heart 
 Association/American Stroke Association (Research Hub)\n\nAccess URL: htt
 ps://www.aan.com/msa/Public/Events/GetEventURL/15996\n\nLearn More About 
 This Event: https://www.aan.com/msa/Public/Events/Details/15996
DTEND;TZID=Eastern Standard Time:20230426T134500
DTSTAMP:20260424T053312Z
DTSTART;TZID=Eastern Standard Time:20230426T130000
LOCATION:https://www.aan.com/msa/Public/Events/GetEventURL/15996
SEQUENCE:0
SUMMARY:AAN: Brain Health Research Funding Opportunities from the American
  Heart Association/American Stroke Association (Research Hub)
UID:cc6eea77-41bb-42b8-ab6b-9651cf1c6026
END:VEVENT
END:VCALENDAR
