BEGIN:VCALENDAR
PRODID:-//github.com/rianjs/ical.net//NONSGML ical.net 4.0//EN
VERSION:2.0
BEGIN:VTIMEZONE
TZID:Eastern Standard Time
X-LIC-LOCATION:America/New_York
BEGIN:STANDARD
DTSTART:20241103T020000
RRULE:FREQ=YEARLY;BYDAY=1SU;BYMONTH=11
TZNAME:EST
TZOFFSETFROM:-0400
TZOFFSETTO:-0500
END:STANDARD
BEGIN:DAYLIGHT
DTSTART:20250309T020000
RRULE:FREQ=YEARLY;BYDAY=2SU;BYMONTH=3
TZNAME:EDT
TZOFFSETFROM:-0500
TZOFFSETTO:-0400
END:DAYLIGHT
END:VTIMEZONE
BEGIN:VEVENT
DESCRIPTION:2023 Annual Meeting by the American Academy of Neurology\n\nTi
 tle: Strategic Planning for Academic Departments: A Case Study (Academic 
 Hub)\n\nAccess URL: https://www.aan.com/msa/Public/Events/GetEventURL/160
 00\n\nLearn More About This Event: https://www.aan.com/msa/Public/Events/
 Details/16000
DTEND;TZID=Eastern Standard Time:20230422T164500
DTSTAMP:20260424T053429Z
DTSTART;TZID=Eastern Standard Time:20230422T160000
LOCATION:https://www.aan.com/msa/Public/Events/GetEventURL/16000
SEQUENCE:0
SUMMARY:AAN: Strategic Planning for Academic Departments: A Case Study (Ac
 ademic Hub)
UID:6f2415c3-591c-447f-93bf-deb32459408b
END:VEVENT
END:VCALENDAR
