BEGIN:VCALENDAR
PRODID:-//github.com/rianjs/ical.net//NONSGML ical.net 4.0//EN
VERSION:2.0
BEGIN:VTIMEZONE
TZID:Eastern Standard Time
X-LIC-LOCATION:America/New_York
BEGIN:STANDARD
DTSTART:20241103T020000
RRULE:FREQ=YEARLY;BYDAY=1SU;BYMONTH=11
TZNAME:EST
TZOFFSETFROM:-0400
TZOFFSETTO:-0500
END:STANDARD
BEGIN:DAYLIGHT
DTSTART:20250309T020000
RRULE:FREQ=YEARLY;BYDAY=2SU;BYMONTH=3
TZNAME:EDT
TZOFFSETFROM:-0500
TZOFFSETTO:-0400
END:DAYLIGHT
END:VTIMEZONE
BEGIN:VEVENT
DESCRIPTION:2023 Annual Meeting by the American Academy of Neurology\n\nTi
 tle: Finding a Mentor for Your Research Career (Research Hub)\n\nAccess U
 RL: https://www.aan.com/msa/Public/Events/GetEventURL/16009\n\nLearn More
  About This Event: https://www.aan.com/msa/Public/Events/Details/16009
DTEND;TZID=Eastern Standard Time:20230425T154500
DTSTAMP:20260423T213315Z
DTSTART;TZID=Eastern Standard Time:20230425T150000
LOCATION:https://www.aan.com/msa/Public/Events/GetEventURL/16009
SEQUENCE:0
SUMMARY:AAN: Finding a Mentor for Your Research Career (Research Hub)
UID:0895ef0a-9d7f-43ab-a914-8903c994fe55
END:VEVENT
END:VCALENDAR
