BEGIN:VCALENDAR
PRODID:-//github.com/rianjs/ical.net//NONSGML ical.net 4.0//EN
VERSION:2.0
BEGIN:VTIMEZONE
TZID:Eastern Standard Time
X-LIC-LOCATION:America/New_York
BEGIN:STANDARD
DTSTART:20241103T020000
RRULE:FREQ=YEARLY;BYDAY=1SU;BYMONTH=11
TZNAME:EST
TZOFFSETFROM:-0400
TZOFFSETTO:-0500
END:STANDARD
BEGIN:DAYLIGHT
DTSTART:20250309T020000
RRULE:FREQ=YEARLY;BYDAY=2SU;BYMONTH=3
TZNAME:EDT
TZOFFSETFROM:-0500
TZOFFSETTO:-0400
END:DAYLIGHT
END:VTIMEZONE
BEGIN:VEVENT
DESCRIPTION:2023 Annual Meeting by the American Academy of Neurology\n\nTi
 tle: Student Interest Group in Neurology (SIGN) Collaboration (Trainee an
 d Educator Hub)\n\nAccess URL: https://www.aan.com/msa/Public/Events/GetE
 ventURL/16014\n\nLearn More About This Event: https://www.aan.com/msa/Pub
 lic/Events/Details/16014
DTEND;TZID=Eastern Standard Time:20230424T123000
DTSTAMP:20260423T213237Z
DTSTART;TZID=Eastern Standard Time:20230424T113000
LOCATION:https://www.aan.com/msa/Public/Events/GetEventURL/16014
SEQUENCE:0
SUMMARY:AAN: Student Interest Group in Neurology (SIGN) Collaboration (Tra
 inee and Educator Hub)
UID:83a767e9-d758-4c45-bd1b-965883697abf
END:VEVENT
END:VCALENDAR
