BEGIN:VCALENDAR
PRODID:-//github.com/rianjs/ical.net//NONSGML ical.net 4.0//EN
VERSION:2.0
BEGIN:VTIMEZONE
TZID:Eastern Standard Time
X-LIC-LOCATION:America/New_York
BEGIN:STANDARD
DTSTART:20241103T020000
RRULE:FREQ=YEARLY;BYDAY=1SU;BYMONTH=11
TZNAME:EST
TZOFFSETFROM:-0400
TZOFFSETTO:-0500
END:STANDARD
BEGIN:DAYLIGHT
DTSTART:20250309T020000
RRULE:FREQ=YEARLY;BYDAY=2SU;BYMONTH=3
TZNAME:EDT
TZOFFSETFROM:-0500
TZOFFSETTO:-0400
END:DAYLIGHT
END:VTIMEZONE
BEGIN:VEVENT
DESCRIPTION:2023 Annual Meeting by the American Academy of Neurology\n\nTi
 tle: Medical Student Diversity Program: Annual Meeting Scholarship Recogn
 ition (Trainee and Educator Hub)\n\nAccess URL: https://www.aan.com/msa/P
 ublic/Events/GetEventURL/16015\n\nLearn More About This Event: https://ww
 w.aan.com/msa/Public/Events/Details/16015
DTEND;TZID=Eastern Standard Time:20230425T100000
DTSTAMP:20260423T213943Z
DTSTART;TZID=Eastern Standard Time:20230425T090000
LOCATION:https://www.aan.com/msa/Public/Events/GetEventURL/16015
SEQUENCE:0
SUMMARY:AAN: Medical Student Diversity Program: Annual Meeting Scholarship
  Recognition (Trainee and Educator Hub)
UID:512b285e-0f39-446a-bf86-ea529db7daef
END:VEVENT
END:VCALENDAR
