BEGIN:VCALENDAR
PRODID:-//github.com/rianjs/ical.net//NONSGML ical.net 4.0//EN
VERSION:2.0
BEGIN:VTIMEZONE
TZID:Eastern Standard Time
X-LIC-LOCATION:America/New_York
BEGIN:STANDARD
DTSTART:20241103T020000
RRULE:FREQ=YEARLY;BYDAY=1SU;BYMONTH=11
TZNAME:EST
TZOFFSETFROM:-0400
TZOFFSETTO:-0500
END:STANDARD
BEGIN:DAYLIGHT
DTSTART:20250309T020000
RRULE:FREQ=YEARLY;BYDAY=2SU;BYMONTH=3
TZNAME:EDT
TZOFFSETFROM:-0500
TZOFFSETTO:-0400
END:DAYLIGHT
END:VTIMEZONE
BEGIN:VEVENT
DESCRIPTION:2023 Annual Meeting by the American Academy of Neurology\n\nTi
 tle: Publishing Creative Writing (Trainee and Educator Hub)\n\nAccess URL
 : https://www.aan.com/msa/Public/Events/GetEventURL/16023\n\nLearn More A
 bout This Event: https://www.aan.com/msa/Public/Events/Details/16023
DTEND;TZID=Eastern Standard Time:20230427T090000
DTSTAMP:20260424T053510Z
DTSTART;TZID=Eastern Standard Time:20230427T080000
LOCATION:https://www.aan.com/msa/Public/Events/GetEventURL/16023
SEQUENCE:0
SUMMARY:AAN: Publishing Creative Writing (Trainee and Educator Hub)
UID:156fa801-58a4-48f2-a818-e8956c2132b7
END:VEVENT
END:VCALENDAR
