BEGIN:VCALENDAR
PRODID:-//github.com/rianjs/ical.net//NONSGML ical.net 4.0//EN
VERSION:2.0
BEGIN:VTIMEZONE
TZID:Eastern Standard Time
X-LIC-LOCATION:America/New_York
BEGIN:STANDARD
DTSTART:20241103T020000
RRULE:FREQ=YEARLY;BYDAY=1SU;BYMONTH=11
TZNAME:EST
TZOFFSETFROM:-0400
TZOFFSETTO:-0500
END:STANDARD
BEGIN:DAYLIGHT
DTSTART:20250309T020000
RRULE:FREQ=YEARLY;BYDAY=2SU;BYMONTH=3
TZNAME:EDT
TZOFFSETFROM:-0500
TZOFFSETTO:-0400
END:DAYLIGHT
END:VTIMEZONE
BEGIN:VEVENT
DESCRIPTION:2023 Annual Meeting by the American Academy of Neurology\n\nTi
 tle: Planning New Trainee Orientations (Trainee and Educator Hub)\n\nAcce
 ss URL: https://www.aan.com/msa/Public/Events/GetEventURL/16028\n\nLearn 
 More About This Event: https://www.aan.com/msa/Public/Events/Details/1602
 8
DTEND;TZID=Eastern Standard Time:20230423T103000
DTSTAMP:20260424T053455Z
DTSTART;TZID=Eastern Standard Time:20230423T094500
LOCATION:https://www.aan.com/msa/Public/Events/GetEventURL/16028
SEQUENCE:0
SUMMARY:AAN: Planning New Trainee Orientations (Trainee and Educator Hub)
UID:6dcec341-5477-4f9f-ade8-66516c62f4ef
END:VEVENT
END:VCALENDAR
