BEGIN:VCALENDAR
PRODID:-//github.com/rianjs/ical.net//NONSGML ical.net 4.0//EN
VERSION:2.0
BEGIN:VTIMEZONE
TZID:Eastern Standard Time
X-LIC-LOCATION:America/New_York
BEGIN:STANDARD
DTSTART:20241103T020000
RRULE:FREQ=YEARLY;BYDAY=1SU;BYMONTH=11
TZNAME:EST
TZOFFSETFROM:-0400
TZOFFSETTO:-0500
END:STANDARD
BEGIN:DAYLIGHT
DTSTART:20250309T020000
RRULE:FREQ=YEARLY;BYDAY=2SU;BYMONTH=3
TZNAME:EDT
TZOFFSETFROM:-0500
TZOFFSETTO:-0400
END:DAYLIGHT
END:VTIMEZONE
BEGIN:VEVENT
DESCRIPTION:2023 Annual Meeting by the American Academy of Neurology\n\nTi
 tle: Navigating and Preparing for Accreditation Council for Graduate Medi
 cal Education (ACGME) Site Visits (Trainee and Educator Hub)\n\nAccess UR
 L: https://www.aan.com/msa/Public/Events/GetEventURL/16030\n\nLearn More 
 About This Event: https://www.aan.com/msa/Public/Events/Details/16030
DTEND;TZID=Eastern Standard Time:20230423T134500
DTSTAMP:20260424T053421Z
DTSTART;TZID=Eastern Standard Time:20230423T130000
LOCATION:https://www.aan.com/msa/Public/Events/GetEventURL/16030
SEQUENCE:0
SUMMARY:AAN: Navigating and Preparing for Accreditation Council for Gradua
 te Medical Education (ACGME) Site Visits (Trainee and Educator Hub)
UID:869c5b91-ab5f-4dd8-b28d-5f7859bfb496
END:VEVENT
END:VCALENDAR
