BEGIN:VCALENDAR
PRODID:-//github.com/rianjs/ical.net//NONSGML ical.net 4.0//EN
VERSION:2.0
BEGIN:VTIMEZONE
TZID:Eastern Standard Time
X-LIC-LOCATION:America/New_York
BEGIN:STANDARD
DTSTART:20241103T020000
RRULE:FREQ=YEARLY;BYDAY=1SU;BYMONTH=11
TZNAME:EST
TZOFFSETFROM:-0400
TZOFFSETTO:-0500
END:STANDARD
BEGIN:DAYLIGHT
DTSTART:20250309T020000
RRULE:FREQ=YEARLY;BYDAY=2SU;BYMONTH=3
TZNAME:EDT
TZOFFSETFROM:-0500
TZOFFSETTO:-0400
END:DAYLIGHT
END:VTIMEZONE
BEGIN:VEVENT
DESCRIPTION:2023 Annual Meeting by the American Academy of Neurology\n\nTi
 tle: Education Coordinators: Navigating Challenging Interpersonal Situati
 ons (Trainee and Educator Hub)\n\nAccess URL: https://www.aan.com/msa/Pub
 lic/Events/GetEventURL/16033\n\nLearn More About This Event: https://www.
 aan.com/msa/Public/Events/Details/16033
DTEND;TZID=Eastern Standard Time:20230424T101500
DTSTAMP:20260424T070431Z
DTSTART;TZID=Eastern Standard Time:20230424T091500
LOCATION:https://www.aan.com/msa/Public/Events/GetEventURL/16033
SEQUENCE:0
SUMMARY:AAN: Education Coordinators: Navigating Challenging Interpersonal 
 Situations (Trainee and Educator Hub)
UID:1659ab42-d136-491c-88bd-bbcb7982ec82
END:VEVENT
END:VCALENDAR
