BEGIN:VCALENDAR
PRODID:-//github.com/rianjs/ical.net//NONSGML ical.net 4.0//EN
VERSION:2.0
BEGIN:VTIMEZONE
TZID:Eastern Standard Time
X-LIC-LOCATION:America/New_York
BEGIN:STANDARD
DTSTART:20241103T020000
RRULE:FREQ=YEARLY;BYDAY=1SU;BYMONTH=11
TZNAME:EST
TZOFFSETFROM:-0400
TZOFFSETTO:-0500
END:STANDARD
BEGIN:DAYLIGHT
DTSTART:20250309T020000
RRULE:FREQ=YEARLY;BYDAY=2SU;BYMONTH=3
TZNAME:EDT
TZOFFSETFROM:-0500
TZOFFSETTO:-0400
END:DAYLIGHT
END:VTIMEZONE
BEGIN:VEVENT
DESCRIPTION:2023 Annual Meeting by the American Academy of Neurology\n\nTi
 tle: Career as a Physician-Administrator (Trainee and Educator Hub)\n\nAc
 cess URL: https://www.aan.com/msa/Public/Events/GetEventURL/16042\n\nLear
 n More About This Event: https://www.aan.com/msa/Public/Events/Details/16
 042
DTEND;TZID=Eastern Standard Time:20230426T133000
DTSTAMP:20260424T053202Z
DTSTART;TZID=Eastern Standard Time:20230426T123000
LOCATION:https://www.aan.com/msa/Public/Events/GetEventURL/16042
SEQUENCE:0
SUMMARY:AAN: Career as a Physician-Administrator (Trainee and Educator Hub)
UID:043c97ac-190a-4f01-bb85-7f279806f313
END:VEVENT
END:VCALENDAR
