BEGIN:VCALENDAR
PRODID:-//github.com/rianjs/ical.net//NONSGML ical.net 4.0//EN
VERSION:2.0
BEGIN:VTIMEZONE
TZID:Eastern Standard Time
X-LIC-LOCATION:America/New_York
BEGIN:STANDARD
DTSTART:20241103T020000
RRULE:FREQ=YEARLY;BYDAY=1SU;BYMONTH=11
TZNAME:EST
TZOFFSETFROM:-0400
TZOFFSETTO:-0500
END:STANDARD
BEGIN:DAYLIGHT
DTSTART:20250309T020000
RRULE:FREQ=YEARLY;BYDAY=2SU;BYMONTH=3
TZNAME:EDT
TZOFFSETFROM:-0500
TZOFFSETTO:-0400
END:DAYLIGHT
END:VTIMEZONE
BEGIN:VEVENT
DESCRIPTION:2023 Annual Meeting by the American Academy of Neurology\n\nTi
 tle: Inclusive Communication (Leadership University)\n\nAccess URL: https
 ://www.aan.com/msa/Public/Events/GetEventURL/16047\n\nLearn More About Th
 is Event: https://www.aan.com/msa/Public/Events/Details/16047
DTEND;TZID=Eastern Standard Time:20230426T140000
DTSTAMP:20260424T053456Z
DTSTART;TZID=Eastern Standard Time:20230426T130000
LOCATION:https://www.aan.com/msa/Public/Events/GetEventURL/16047
SEQUENCE:0
SUMMARY:AAN: Inclusive Communication (Leadership University)
UID:cea7d5dc-0b0d-4369-a488-6df49ad013ae
END:VEVENT
END:VCALENDAR
