BEGIN:VCALENDAR
PRODID:-//github.com/rianjs/ical.net//NONSGML ical.net 4.0//EN
VERSION:2.0
BEGIN:VTIMEZONE
TZID:Eastern Standard Time
X-LIC-LOCATION:America/New_York
BEGIN:STANDARD
DTSTART:20241103T020000
RRULE:FREQ=YEARLY;BYDAY=1SU;BYMONTH=11
TZNAME:EST
TZOFFSETFROM:-0400
TZOFFSETTO:-0500
END:STANDARD
BEGIN:DAYLIGHT
DTSTART:20250309T020000
RRULE:FREQ=YEARLY;BYDAY=2SU;BYMONTH=3
TZNAME:EDT
TZOFFSETFROM:-0500
TZOFFSETTO:-0400
END:DAYLIGHT
END:VTIMEZONE
BEGIN:VEVENT
DESCRIPTION:2023 Annual Meeting by the American Academy of Neurology\n\nTi
 tle: 2023 Penn Neurology Reunion for Colleagues and Alumni  (Non-AAN Spon
 sored Event)\n\nDescription: The Univ of Penn\, Neurology department is h
 appy to finally arrange a reunion! This is an opportunity to catch up wit
 h old friends and enjoy our current colleagues while at this year's 2023 
 AAN Meeting in Boston.\n\nLearn More About This Event: https://www.aan.co
 m/msa/Public/Events/Details/16049
DTEND;TZID=Eastern Standard Time:20230425T203000
DTSTAMP:20260424T053510Z
DTSTART;TZID=Eastern Standard Time:20230425T173000
LOCATION:https://www.aan.com/msa/Public/Events/GetEventURL/16049
SEQUENCE:0
SUMMARY:AAN: 2023 Penn Neurology Reunion for Colleagues and Alumni  (Non-A
 AN Sponsored Event)
UID:d43c41bb-86a8-4d34-a056-e5f73d457b63
END:VEVENT
END:VCALENDAR
