BEGIN:VCALENDAR
PRODID:-//github.com/rianjs/ical.net//NONSGML ical.net 4.0//EN
VERSION:2.0
BEGIN:VTIMEZONE
TZID:Eastern Standard Time
X-LIC-LOCATION:America/New_York
BEGIN:STANDARD
DTSTART:20241103T020000
RRULE:FREQ=YEARLY;BYDAY=1SU;BYMONTH=11
TZNAME:EST
TZOFFSETFROM:-0400
TZOFFSETTO:-0500
END:STANDARD
BEGIN:DAYLIGHT
DTSTART:20250309T020000
RRULE:FREQ=YEARLY;BYDAY=2SU;BYMONTH=3
TZNAME:EDT
TZOFFSETFROM:-0500
TZOFFSETTO:-0400
END:DAYLIGHT
END:VTIMEZONE
BEGIN:VEVENT
DESCRIPTION:2023 Annual Meeting by the American Academy of Neurology\n\nTi
 tle: "Genius Is Talent on Fire": Finding the Talent\, Nurturing Genius (A
 cademic Hub)\n\nAccess URL: https://www.aan.com/msa/Public/Events/GetEven
 tURL/16057\n\nLearn More About This Event: https://www.aan.com/msa/Public
 /Events/Details/16057
DTEND;TZID=Eastern Standard Time:20230423T164500
DTSTAMP:20260424T053203Z
DTSTART;TZID=Eastern Standard Time:20230423T160000
LOCATION:https://www.aan.com/msa/Public/Events/GetEventURL/16057
SEQUENCE:0
SUMMARY:AAN: "Genius Is Talent on Fire": Finding the Talent\, Nurturing Ge
 nius (Academic Hub)
UID:b0370afc-9955-4449-b0c3-ba4abdd01129
END:VEVENT
END:VCALENDAR
