BEGIN:VCALENDAR
PRODID:-//github.com/rianjs/ical.net//NONSGML ical.net 4.0//EN
VERSION:2.0
BEGIN:VTIMEZONE
TZID:Eastern Standard Time
X-LIC-LOCATION:America/New_York
BEGIN:STANDARD
DTSTART:20241103T020000
RRULE:FREQ=YEARLY;BYDAY=1SU;BYMONTH=11
TZNAME:EST
TZOFFSETFROM:-0400
TZOFFSETTO:-0500
END:STANDARD
BEGIN:DAYLIGHT
DTSTART:20250309T020000
RRULE:FREQ=YEARLY;BYDAY=2SU;BYMONTH=3
TZNAME:EDT
TZOFFSETFROM:-0500
TZOFFSETTO:-0400
END:DAYLIGHT
END:VTIMEZONE
BEGIN:VEVENT
DESCRIPTION:2023 Annual Meeting by the American Academy of Neurology\n\nTi
 tle: Lessons Learned from Over 10 Years as a Program Director (Academic H
 ub)\n\nAccess URL: https://www.aan.com/msa/Public/Events/GetEventURL/1607
 9\n\nLearn More About This Event: https://www.aan.com/msa/Public/Events/D
 etails/16079
DTEND;TZID=Eastern Standard Time:20230424T124500
DTSTAMP:20260423T214116Z
DTSTART;TZID=Eastern Standard Time:20230424T120000
LOCATION:https://www.aan.com/msa/Public/Events/GetEventURL/16079
SEQUENCE:0
SUMMARY:AAN: Lessons Learned from Over 10 Years as a Program Director (Aca
 demic Hub)
UID:4727d4aa-470c-4f5b-a81a-b28386278b62
END:VEVENT
END:VCALENDAR
