BEGIN:VCALENDAR
PRODID:-//github.com/rianjs/ical.net//NONSGML ical.net 4.0//EN
VERSION:2.0
BEGIN:VTIMEZONE
TZID:Eastern Standard Time
X-LIC-LOCATION:America/New_York
BEGIN:STANDARD
DTSTART:20241103T020000
RRULE:FREQ=YEARLY;BYDAY=1SU;BYMONTH=11
TZNAME:EST
TZOFFSETFROM:-0400
TZOFFSETTO:-0500
END:STANDARD
BEGIN:DAYLIGHT
DTSTART:20250309T020000
RRULE:FREQ=YEARLY;BYDAY=2SU;BYMONTH=3
TZNAME:EDT
TZOFFSETFROM:-0500
TZOFFSETTO:-0400
END:DAYLIGHT
END:VTIMEZONE
BEGIN:VEVENT
DESCRIPTION:2023 Annual Meeting by the American Academy of Neurology\n\nTi
 tle: Child Neurology Subspecialty Mentoring Session (Non-AAN Sponsored Ev
 ent)\n\nDescription: Child Neurology Subspecialty Mentoring Session\n\nLe
 arn More About This Event: https://www.aan.com/msa/Public/Events/Details/
 16080
DTEND;TZID=Eastern Standard Time:20230425T140000
DTSTAMP:20260424T053455Z
DTSTART;TZID=Eastern Standard Time:20230425T120000
LOCATION:https://www.aan.com/msa/Public/Events/GetEventURL/16080
SEQUENCE:0
SUMMARY:AAN: Child Neurology Subspecialty Mentoring Session (Non-AAN Spons
 ored Event)
UID:1a2eefaf-6d25-4581-a715-12a689a0b20c
END:VEVENT
END:VCALENDAR
