BEGIN:VCALENDAR
PRODID:-//github.com/rianjs/ical.net//NONSGML ical.net 4.0//EN
VERSION:2.0
BEGIN:VTIMEZONE
TZID:Eastern Standard Time
X-LIC-LOCATION:America/New_York
BEGIN:STANDARD
DTSTART:20241103T020000
RRULE:FREQ=YEARLY;BYDAY=1SU;BYMONTH=11
TZNAME:EST
TZOFFSETFROM:-0400
TZOFFSETTO:-0500
END:STANDARD
BEGIN:DAYLIGHT
DTSTART:20250309T020000
RRULE:FREQ=YEARLY;BYDAY=2SU;BYMONTH=3
TZNAME:EDT
TZOFFSETFROM:-0500
TZOFFSETTO:-0400
END:DAYLIGHT
END:VTIMEZONE
BEGIN:VEVENT
DESCRIPTION:2023 Annual Meeting by the American Academy of Neurology\n\nTi
 tle: Establishing Yourself as a Clinician-educator in Academic Department
 s (Academic Hub)\n\nAccess URL: https://www.aan.com/msa/Public/Events/Get
 EventURL/16081\n\nLearn More About This Event: https://www.aan.com/msa/Pu
 blic/Events/Details/16081
DTEND;TZID=Eastern Standard Time:20230424T134500
DTSTAMP:20260424T053603Z
DTSTART;TZID=Eastern Standard Time:20230424T130000
LOCATION:https://www.aan.com/msa/Public/Events/GetEventURL/16081
SEQUENCE:0
SUMMARY:AAN: Establishing Yourself as a Clinician-educator in Academic Dep
 artments (Academic Hub)
UID:40f14f3b-f8f0-4163-9dda-0bd4473117cb
END:VEVENT
END:VCALENDAR
