BEGIN:VCALENDAR
PRODID:-//github.com/rianjs/ical.net//NONSGML ical.net 4.0//EN
VERSION:2.0
BEGIN:VTIMEZONE
TZID:Eastern Standard Time
X-LIC-LOCATION:America/New_York
BEGIN:STANDARD
DTSTART:20241103T020000
RRULE:FREQ=YEARLY;BYDAY=1SU;BYMONTH=11
TZNAME:EST
TZOFFSETFROM:-0400
TZOFFSETTO:-0500
END:STANDARD
BEGIN:DAYLIGHT
DTSTART:20250309T020000
RRULE:FREQ=YEARLY;BYDAY=2SU;BYMONTH=3
TZNAME:EDT
TZOFFSETFROM:-0500
TZOFFSETTO:-0400
END:DAYLIGHT
END:VTIMEZONE
BEGIN:VEVENT
DESCRIPTION:2023 Annual Meeting by the American Academy of Neurology\n\nTi
 tle: Recruitment and Retention of Staff in the Age of the Great Resignati
 on (Academic Hub)\n\nAccess URL: https://www.aan.com/msa/Public/Events/Ge
 tEventURL/16089\n\nLearn More About This Event: https://www.aan.com/msa/P
 ublic/Events/Details/16089
DTEND;TZID=Eastern Standard Time:20230425T164500
DTSTAMP:20260424T053158Z
DTSTART;TZID=Eastern Standard Time:20230425T160000
LOCATION:https://www.aan.com/msa/Public/Events/GetEventURL/16089
SEQUENCE:0
SUMMARY:AAN: Recruitment and Retention of Staff in the Age of the Great Re
 signation (Academic Hub)
UID:a8d75fcd-487b-4aec-b149-f0a02ce91638
END:VEVENT
END:VCALENDAR
