BEGIN:VCALENDAR
PRODID:-//github.com/rianjs/ical.net//NONSGML ical.net 4.0//EN
VERSION:2.0
BEGIN:VTIMEZONE
TZID:Eastern Standard Time
X-LIC-LOCATION:America/New_York
BEGIN:STANDARD
DTSTART:20241103T020000
RRULE:FREQ=YEARLY;BYDAY=1SU;BYMONTH=11
TZNAME:EST
TZOFFSETFROM:-0400
TZOFFSETTO:-0500
END:STANDARD
BEGIN:DAYLIGHT
DTSTART:20250309T020000
RRULE:FREQ=YEARLY;BYDAY=2SU;BYMONTH=3
TZNAME:EDT
TZOFFSETFROM:-0500
TZOFFSETTO:-0400
END:DAYLIGHT
END:VTIMEZONE
BEGIN:VEVENT
DESCRIPTION:2023 Annual Meeting by the American Academy of Neurology\n\nTi
 tle: Strategies to Improve Patient Access in Academic Neurology (Academic
  Hub)\n\nAccess URL: https://www.aan.com/msa/Public/Events/GetEventURL/16
 091\n\nLearn More About This Event: https://www.aan.com/msa/Public/Events
 /Details/16091
DTEND;TZID=Eastern Standard Time:20230426T074500
DTSTAMP:20260424T053603Z
DTSTART;TZID=Eastern Standard Time:20230426T070000
LOCATION:https://www.aan.com/msa/Public/Events/GetEventURL/16091
SEQUENCE:0
SUMMARY:AAN: Strategies to Improve Patient Access in Academic Neurology (A
 cademic Hub)
UID:1d28d47d-b84e-4851-8fe0-7824a4757e04
END:VEVENT
END:VCALENDAR
