BEGIN:VCALENDAR
PRODID:-//github.com/rianjs/ical.net//NONSGML ical.net 4.0//EN
VERSION:2.0
BEGIN:VTIMEZONE
TZID:Eastern Standard Time
X-LIC-LOCATION:America/New_York
BEGIN:STANDARD
DTSTART:20241103T020000
RRULE:FREQ=YEARLY;BYDAY=1SU;BYMONTH=11
TZNAME:EST
TZOFFSETFROM:-0400
TZOFFSETTO:-0500
END:STANDARD
BEGIN:DAYLIGHT
DTSTART:20250309T020000
RRULE:FREQ=YEARLY;BYDAY=2SU;BYMONTH=3
TZNAME:EDT
TZOFFSETFROM:-0500
TZOFFSETTO:-0400
END:DAYLIGHT
END:VTIMEZONE
BEGIN:VEVENT
DESCRIPTION:2023 Annual Meeting by the American Academy of Neurology\n\nTi
 tle: How to Remain Relevant and Engaged in Mid-to-late Career (Academic H
 ub)\n\nAccess URL: https://www.aan.com/msa/Public/Events/GetEventURL/1609
 3\n\nLearn More About This Event: https://www.aan.com/msa/Public/Events/D
 etails/16093
DTEND;TZID=Eastern Standard Time:20230426T124500
DTSTAMP:20260424T053424Z
DTSTART;TZID=Eastern Standard Time:20230426T120000
LOCATION:https://www.aan.com/msa/Public/Events/GetEventURL/16093
SEQUENCE:0
SUMMARY:AAN: How to Remain Relevant and Engaged in Mid-to-late Career (Aca
 demic Hub)
UID:9c93ee65-2df9-4ff7-aff1-59de80a48c69
END:VEVENT
END:VCALENDAR
