BEGIN:VCALENDAR
PRODID:-//github.com/rianjs/ical.net//NONSGML ical.net 4.0//EN
VERSION:2.0
BEGIN:VTIMEZONE
TZID:Eastern Standard Time
X-LIC-LOCATION:America/New_York
BEGIN:STANDARD
DTSTART:20241103T020000
RRULE:FREQ=YEARLY;BYDAY=1SU;BYMONTH=11
TZNAME:EST
TZOFFSETFROM:-0400
TZOFFSETTO:-0500
END:STANDARD
BEGIN:DAYLIGHT
DTSTART:20250309T020000
RRULE:FREQ=YEARLY;BYDAY=2SU;BYMONTH=3
TZNAME:EDT
TZOFFSETFROM:-0500
TZOFFSETTO:-0400
END:DAYLIGHT
END:VTIMEZONE
BEGIN:VEVENT
DESCRIPTION:2023 Annual Meeting by the American Academy of Neurology\n\nTi
 tle: Changemaker Award: Diversity\, Equity\, and Inclusion in Neurology: 
 Moving from Agnosia to Action (Academic Hub)\n\nAccess URL: https://www.a
 an.com/msa/Public/Events/GetEventURL/16094\n\nLearn More About This Event
 : https://www.aan.com/msa/Public/Events/Details/16094
DTEND;TZID=Eastern Standard Time:20230426T134500
DTSTAMP:20260424T053421Z
DTSTART;TZID=Eastern Standard Time:20230426T130000
LOCATION:https://www.aan.com/msa/Public/Events/GetEventURL/16094
SEQUENCE:0
SUMMARY:AAN: Changemaker Award: Diversity\, Equity\, and Inclusion in Neur
 ology: Moving from Agnosia to Action (Academic Hub)
UID:53cface3-2aa6-4909-98e2-cb98e7ed8390
END:VEVENT
END:VCALENDAR
