BEGIN:VCALENDAR
PRODID:-//github.com/rianjs/ical.net//NONSGML ical.net 4.0//EN
VERSION:2.0
BEGIN:VTIMEZONE
TZID:Eastern Standard Time
X-LIC-LOCATION:America/New_York
BEGIN:STANDARD
DTSTART:20241103T020000
RRULE:FREQ=YEARLY;BYDAY=1SU;BYMONTH=11
TZNAME:EST
TZOFFSETFROM:-0400
TZOFFSETTO:-0500
END:STANDARD
BEGIN:DAYLIGHT
DTSTART:20250309T020000
RRULE:FREQ=YEARLY;BYDAY=2SU;BYMONTH=3
TZNAME:EDT
TZOFFSETFROM:-0500
TZOFFSETTO:-0400
END:DAYLIGHT
END:VTIMEZONE
BEGIN:VEVENT
DESCRIPTION:2023 Annual Meeting by the American Academy of Neurology\n\nTi
 tle: Moving the Dial as Diversity Officer (Academic Hub)\n\nAccess URL: h
 ttps://www.aan.com/msa/Public/Events/GetEventURL/16097\n\nLearn More Abou
 t This Event: https://www.aan.com/msa/Public/Events/Details/16097
DTEND;TZID=Eastern Standard Time:20230427T084500
DTSTAMP:20260424T053456Z
DTSTART;TZID=Eastern Standard Time:20230427T080000
LOCATION:https://www.aan.com/msa/Public/Events/GetEventURL/16097
SEQUENCE:0
SUMMARY:AAN: Moving the Dial as Diversity Officer (Academic Hub)
UID:138fadd9-8005-4520-8199-6b9d6c0456af
END:VEVENT
END:VCALENDAR
