BEGIN:VCALENDAR
PRODID:-//github.com/rianjs/ical.net//NONSGML ical.net 4.0//EN
VERSION:2.0
BEGIN:VTIMEZONE
TZID:Eastern Standard Time
X-LIC-LOCATION:America/New_York
BEGIN:STANDARD
DTSTART:20241103T020000
RRULE:FREQ=YEARLY;BYDAY=1SU;BYMONTH=11
TZNAME:EST
TZOFFSETFROM:-0400
TZOFFSETTO:-0500
END:STANDARD
BEGIN:DAYLIGHT
DTSTART:20250309T020000
RRULE:FREQ=YEARLY;BYDAY=2SU;BYMONTH=3
TZNAME:EDT
TZOFFSETFROM:-0500
TZOFFSETTO:-0400
END:DAYLIGHT
END:VTIMEZONE
BEGIN:VEVENT
DESCRIPTION:2023 Annual Meeting by the American Academy of Neurology\n\nTi
 tle: Gender-based Stereotypes\, Intersectionality\, and How They Affect C
 are Conversation Corner (Academic Hub)\n\nAccess URL: https://www.aan.com
 /msa/Public/Events/GetEventURL/16104\n\nLearn More About This Event: http
 s://www.aan.com/msa/Public/Events/Details/16104
DTEND;TZID=Eastern Standard Time:20230422T140000
DTSTAMP:20260424T053456Z
DTSTART;TZID=Eastern Standard Time:20230422T133000
LOCATION:https://www.aan.com/msa/Public/Events/GetEventURL/16104
SEQUENCE:0
SUMMARY:AAN: Gender-based Stereotypes\, Intersectionality\, and How They A
 ffect Care Conversation Corner (Academic Hub)
UID:1f4fe3ee-f507-4c8e-9e9f-9e8d062a7bd9
END:VEVENT
END:VCALENDAR
