BEGIN:VCALENDAR
PRODID:-//github.com/rianjs/ical.net//NONSGML ical.net 4.0//EN
VERSION:2.0
BEGIN:VTIMEZONE
TZID:Eastern Standard Time
X-LIC-LOCATION:America/New_York
BEGIN:STANDARD
DTSTART:20241103T020000
RRULE:FREQ=YEARLY;BYDAY=1SU;BYMONTH=11
TZNAME:EST
TZOFFSETFROM:-0400
TZOFFSETTO:-0500
END:STANDARD
BEGIN:DAYLIGHT
DTSTART:20250309T020000
RRULE:FREQ=YEARLY;BYDAY=2SU;BYMONTH=3
TZNAME:EDT
TZOFFSETFROM:-0500
TZOFFSETTO:-0400
END:DAYLIGHT
END:VTIMEZONE
BEGIN:VEVENT
DESCRIPTION:2023 Annual Meeting by the American Academy of Neurology\n\nTi
 tle: Ask Me Anything: Advanced Practice Provider in Academic Practice Con
 versation Corner (Academic Hub)\n\nAccess URL: https://www.aan.com/msa/Pu
 blic/Events/GetEventURL/16109\n\nLearn More About This Event: https://www
 .aan.com/msa/Public/Events/Details/16109
DTEND;TZID=Eastern Standard Time:20230422T160000
DTSTAMP:20260423T213943Z
DTSTART;TZID=Eastern Standard Time:20230422T153000
LOCATION:https://www.aan.com/msa/Public/Events/GetEventURL/16109
SEQUENCE:0
SUMMARY:AAN: Ask Me Anything: Advanced Practice Provider in Academic Pract
 ice Conversation Corner (Academic Hub)
UID:00bc128f-6371-4507-895b-1ff41807ba73
END:VEVENT
END:VCALENDAR
