BEGIN:VCALENDAR
PRODID:-//github.com/rianjs/ical.net//NONSGML ical.net 4.0//EN
VERSION:2.0
BEGIN:VTIMEZONE
TZID:Eastern Standard Time
X-LIC-LOCATION:America/New_York
BEGIN:STANDARD
DTSTART:20241103T020000
RRULE:FREQ=YEARLY;BYDAY=1SU;BYMONTH=11
TZNAME:EST
TZOFFSETFROM:-0400
TZOFFSETTO:-0500
END:STANDARD
BEGIN:DAYLIGHT
DTSTART:20250309T020000
RRULE:FREQ=YEARLY;BYDAY=2SU;BYMONTH=3
TZNAME:EDT
TZOFFSETFROM:-0500
TZOFFSETTO:-0400
END:DAYLIGHT
END:VTIMEZONE
BEGIN:VEVENT
DESCRIPTION:2023 Annual Meeting by the American Academy of Neurology\n\nTi
 tle: Leveraging Outside Resources: Working with Philanthropy and Foundati
 ons Conversation Corner (Academic Hub)\n\nAccess URL: https://www.aan.com
 /msa/Public/Events/GetEventURL/16115\n\nLearn More About This Event: http
 s://www.aan.com/msa/Public/Events/Details/16115
DTEND;TZID=Eastern Standard Time:20230423T170000
DTSTAMP:20260423T213901Z
DTSTART;TZID=Eastern Standard Time:20230423T163000
LOCATION:https://www.aan.com/msa/Public/Events/GetEventURL/16115
SEQUENCE:0
SUMMARY:AAN: Leveraging Outside Resources: Working with Philanthropy and F
 oundations Conversation Corner (Academic Hub)
UID:a86e7f23-1625-4d44-abdc-0c512b66f392
END:VEVENT
END:VCALENDAR
