BEGIN:VCALENDAR
PRODID:-//github.com/rianjs/ical.net//NONSGML ical.net 4.0//EN
VERSION:2.0
BEGIN:VTIMEZONE
TZID:Eastern Standard Time
X-LIC-LOCATION:America/New_York
BEGIN:STANDARD
DTSTART:20241103T020000
RRULE:FREQ=YEARLY;BYDAY=1SU;BYMONTH=11
TZNAME:EST
TZOFFSETFROM:-0400
TZOFFSETTO:-0500
END:STANDARD
BEGIN:DAYLIGHT
DTSTART:20250309T020000
RRULE:FREQ=YEARLY;BYDAY=2SU;BYMONTH=3
TZNAME:EDT
TZOFFSETFROM:-0500
TZOFFSETTO:-0400
END:DAYLIGHT
END:VTIMEZONE
BEGIN:VEVENT
DESCRIPTION:2023 Annual Meeting by the American Academy of Neurology\n\nTi
 tle: Mentor or Tormentor: Choose Wisely\, You Must! Conversation Corner (
 Academic Hub)\n\nAccess URL: https://www.aan.com/msa/Public/Events/GetEve
 ntURL/16118\n\nLearn More About This Event: https://www.aan.com/msa/Publi
 c/Events/Details/16118
DTEND;TZID=Eastern Standard Time:20230424T120000
DTSTAMP:20260424T053603Z
DTSTART;TZID=Eastern Standard Time:20230424T113000
LOCATION:https://www.aan.com/msa/Public/Events/GetEventURL/16118
SEQUENCE:0
SUMMARY:AAN: Mentor or Tormentor: Choose Wisely\, You Must! Conversation C
 orner (Academic Hub)
UID:97250f83-c7d7-4840-a98b-54cd2d0772b4
END:VEVENT
END:VCALENDAR
