BEGIN:VCALENDAR
PRODID:-//github.com/rianjs/ical.net//NONSGML ical.net 4.0//EN
VERSION:2.0
BEGIN:VTIMEZONE
TZID:Eastern Standard Time
X-LIC-LOCATION:America/New_York
BEGIN:STANDARD
DTSTART:20241103T020000
RRULE:FREQ=YEARLY;BYDAY=1SU;BYMONTH=11
TZNAME:EST
TZOFFSETFROM:-0400
TZOFFSETTO:-0500
END:STANDARD
BEGIN:DAYLIGHT
DTSTART:20250309T020000
RRULE:FREQ=YEARLY;BYDAY=2SU;BYMONTH=3
TZNAME:EDT
TZOFFSETFROM:-0500
TZOFFSETTO:-0400
END:DAYLIGHT
END:VTIMEZONE
BEGIN:VEVENT
DESCRIPTION:2023 Annual Meeting by the American Academy of Neurology\n\nTi
 tle: International Medical Graduates: Challenges and Opportunities Conver
 sation Corner (Academic Hub)\n\nAccess URL: https://www.aan.com/msa/Publi
 c/Events/GetEventURL/16121\n\nLearn More About This Event: https://www.aa
 n.com/msa/Public/Events/Details/16121
DTEND;TZID=Eastern Standard Time:20230424T160000
DTSTAMP:20260424T053202Z
DTSTART;TZID=Eastern Standard Time:20230424T153000
LOCATION:https://www.aan.com/msa/Public/Events/GetEventURL/16121
SEQUENCE:0
SUMMARY:AAN: International Medical Graduates: Challenges and Opportunities
  Conversation Corner (Academic Hub)
UID:3472999f-da4d-49dd-899e-b3b7dc61466c
END:VEVENT
END:VCALENDAR
