BEGIN:VCALENDAR
PRODID:-//github.com/rianjs/ical.net//NONSGML ical.net 4.0//EN
VERSION:2.0
BEGIN:VTIMEZONE
TZID:Eastern Standard Time
X-LIC-LOCATION:America/New_York
BEGIN:STANDARD
DTSTART:20241103T020000
RRULE:FREQ=YEARLY;BYDAY=1SU;BYMONTH=11
TZNAME:EST
TZOFFSETFROM:-0400
TZOFFSETTO:-0500
END:STANDARD
BEGIN:DAYLIGHT
DTSTART:20250309T020000
RRULE:FREQ=YEARLY;BYDAY=2SU;BYMONTH=3
TZNAME:EDT
TZOFFSETFROM:-0500
TZOFFSETTO:-0400
END:DAYLIGHT
END:VTIMEZONE
BEGIN:VEVENT
DESCRIPTION:2023 Annual Meeting by the American Academy of Neurology\n\nTi
 tle: Networking: How to Do It and Why It's Important Conversation Corner 
 (Academic Hub)\n\nAccess URL: https://www.aan.com/msa/Public/Events/GetEv
 entURL/16127\n\nLearn More About This Event: https://www.aan.com/msa/Publ
 ic/Events/Details/16127
DTEND;TZID=Eastern Standard Time:20230425T140000
DTSTAMP:20260423T213901Z
DTSTART;TZID=Eastern Standard Time:20230425T133000
LOCATION:https://www.aan.com/msa/Public/Events/GetEventURL/16127
SEQUENCE:0
SUMMARY:AAN: Networking: How to Do It and Why It's Important Conversation 
 Corner (Academic Hub)
UID:534a0226-736c-450d-b5b4-dcc47b5a1e3b
END:VEVENT
END:VCALENDAR
