BEGIN:VCALENDAR
PRODID:-//github.com/rianjs/ical.net//NONSGML ical.net 4.0//EN
VERSION:2.0
BEGIN:VTIMEZONE
TZID:Eastern Standard Time
X-LIC-LOCATION:America/New_York
BEGIN:STANDARD
DTSTART:20241103T020000
RRULE:FREQ=YEARLY;BYDAY=1SU;BYMONTH=11
TZNAME:EST
TZOFFSETFROM:-0400
TZOFFSETTO:-0500
END:STANDARD
BEGIN:DAYLIGHT
DTSTART:20250309T020000
RRULE:FREQ=YEARLY;BYDAY=2SU;BYMONTH=3
TZNAME:EDT
TZOFFSETFROM:-0500
TZOFFSETTO:-0400
END:DAYLIGHT
END:VTIMEZONE
BEGIN:VEVENT
DESCRIPTION:2023 Annual Meeting by the American Academy of Neurology\n\nTi
 tle: Approaches to Conflict Resolution in an Academic Department Conversa
 tion Corner (Academic Hub)\n\nAccess URL: https://www.aan.com/msa/Public/
 Events/GetEventURL/16130\n\nLearn More About This Event: https://www.aan.
 com/msa/Public/Events/Details/16130
DTEND;TZID=Eastern Standard Time:20230426T080000
DTSTAMP:20260424T053429Z
DTSTART;TZID=Eastern Standard Time:20230426T073000
LOCATION:https://www.aan.com/msa/Public/Events/GetEventURL/16130
SEQUENCE:0
SUMMARY:AAN: Approaches to Conflict Resolution in an Academic Department C
 onversation Corner (Academic Hub)
UID:bf006b51-1515-4709-aacc-747298f16c21
END:VEVENT
END:VCALENDAR
