BEGIN:VCALENDAR
PRODID:-//github.com/rianjs/ical.net//NONSGML ical.net 4.0//EN
VERSION:2.0
BEGIN:VTIMEZONE
TZID:Eastern Standard Time
X-LIC-LOCATION:America/New_York
BEGIN:STANDARD
DTSTART:20241103T020000
RRULE:FREQ=YEARLY;BYDAY=1SU;BYMONTH=11
TZNAME:EST
TZOFFSETFROM:-0400
TZOFFSETTO:-0500
END:STANDARD
BEGIN:DAYLIGHT
DTSTART:20250309T020000
RRULE:FREQ=YEARLY;BYDAY=2SU;BYMONTH=3
TZNAME:EDT
TZOFFSETFROM:-0500
TZOFFSETTO:-0400
END:DAYLIGHT
END:VTIMEZONE
BEGIN:VEVENT
DESCRIPTION:2023 Annual Meeting by the American Academy of Neurology\n\nTi
 tle: I'm an Associate Professor: Now What and How Do I Balance It All? Co
 nversation Corner (Academic Hub)\n\nAccess URL: https://www.aan.com/msa/P
 ublic/Events/GetEventURL/16136\n\nLearn More About This Event: https://ww
 w.aan.com/msa/Public/Events/Details/16136
DTEND;TZID=Eastern Standard Time:20230427T130000
DTSTAMP:20260424T053511Z
DTSTART;TZID=Eastern Standard Time:20230427T123000
LOCATION:https://www.aan.com/msa/Public/Events/GetEventURL/16136
SEQUENCE:0
SUMMARY:AAN: I'm an Associate Professor: Now What and How Do I Balance It 
 All? Conversation Corner (Academic Hub)
UID:61a7b4d1-c936-4dc3-b14f-d4517c618c21
END:VEVENT
END:VCALENDAR
