BEGIN:VCALENDAR
PRODID:-//github.com/rianjs/ical.net//NONSGML ical.net 4.0//EN
VERSION:2.0
BEGIN:VTIMEZONE
TZID:Eastern Standard Time
X-LIC-LOCATION:America/New_York
BEGIN:STANDARD
DTSTART:20241103T020000
RRULE:FREQ=YEARLY;BYDAY=1SU;BYMONTH=11
TZNAME:EST
TZOFFSETFROM:-0400
TZOFFSETTO:-0500
END:STANDARD
BEGIN:DAYLIGHT
DTSTART:20250309T020000
RRULE:FREQ=YEARLY;BYDAY=2SU;BYMONTH=3
TZNAME:EDT
TZOFFSETFROM:-0500
TZOFFSETTO:-0400
END:DAYLIGHT
END:VTIMEZONE
BEGIN:VEVENT
DESCRIPTION:2023 Annual Meeting by the American Academy of Neurology\n\nTi
 tle: An Interactive Workshop on Mission-based Social Media Use: The Why &
  How (Leadership University)\n\nAccess URL: https://www.aan.com/msa/Publi
 c/Events/GetEventURL/16146\n\nLearn More About This Event: https://www.aa
 n.com/msa/Public/Events/Details/16146
DTEND;TZID=Eastern Standard Time:20230425T150000
DTSTAMP:20260424T053152Z
DTSTART;TZID=Eastern Standard Time:20230425T133000
LOCATION:https://www.aan.com/msa/Public/Events/GetEventURL/16146
SEQUENCE:0
SUMMARY:AAN: An Interactive Workshop on Mission-based Social Media Use: Th
 e Why & How (Leadership University)
UID:525cb2cb-b4c9-4c6c-9cae-65604940d9d9
END:VEVENT
END:VCALENDAR
