BEGIN:VCALENDAR
PRODID:-//github.com/rianjs/ical.net//NONSGML ical.net 4.0//EN
VERSION:2.0
BEGIN:VTIMEZONE
TZID:Eastern Standard Time
X-LIC-LOCATION:America/New_York
BEGIN:STANDARD
DTSTART:20241103T020000
RRULE:FREQ=YEARLY;BYDAY=1SU;BYMONTH=11
TZNAME:EST
TZOFFSETFROM:-0400
TZOFFSETTO:-0500
END:STANDARD
BEGIN:DAYLIGHT
DTSTART:20250309T020000
RRULE:FREQ=YEARLY;BYDAY=2SU;BYMONTH=3
TZNAME:EDT
TZOFFSETFROM:-0500
TZOFFSETTO:-0400
END:DAYLIGHT
END:VTIMEZONE
BEGIN:VEVENT
DESCRIPTION:2023 Annual Meeting by the American Academy of Neurology\n\nTi
 tle: National Task Group\; Workgroup on Neuroatypical Assessments  (Non-A
 AN Sponsored Event)\n\nDescription: This activity will bring together lea
 ders in the field of Alzheimer's disease\, Aging and Intellectual and Dev
 elopmental Disabilities. (IDD) The issues of concerns related to assessin
 g for cognitive decline as well as for the usage of biomarkers and therap
 eutics will be reviewed. \n\nLearn More About This Event: https://www.aan
 .com/msa/Public/Events/Details/16147
DTEND;TZID=Eastern Standard Time:20230425T180000
DTSTAMP:20260423T214039Z
DTSTART;TZID=Eastern Standard Time:20230425T143000
LOCATION:https://www.aan.com/msa/Public/Events/GetEventURL/16147
SEQUENCE:0
SUMMARY:AAN: National Task Group\; Workgroup on Neuroatypical Assessments 
  (Non-AAN Sponsored Event)
UID:fec18235-5ffa-4ffd-961e-e05fb1665e2a
END:VEVENT
END:VCALENDAR
