BEGIN:VCALENDAR
PRODID:-//github.com/rianjs/ical.net//NONSGML ical.net 4.0//EN
VERSION:2.0
BEGIN:VTIMEZONE
TZID:Eastern Standard Time
X-LIC-LOCATION:America/New_York
BEGIN:STANDARD
DTSTART:20241103T020000
RRULE:FREQ=YEARLY;BYDAY=1SU;BYMONTH=11
TZNAME:EST
TZOFFSETFROM:-0400
TZOFFSETTO:-0500
END:STANDARD
BEGIN:DAYLIGHT
DTSTART:20250309T020000
RRULE:FREQ=YEARLY;BYDAY=2SU;BYMONTH=3
TZNAME:EDT
TZOFFSETFROM:-0500
TZOFFSETTO:-0400
END:DAYLIGHT
END:VTIMEZONE
BEGIN:VEVENT
DESCRIPTION:2023 Annual Meeting by the American Academy of Neurology\n\nTi
 tle: UPMC Department of Neurology Evening Reception at AAN (Non-AAN Spons
 ored Event)\n\nDescription: Please join the University of Pittsburgh Depa
 rtment of Neurology for cocktails and hors d'oeuvres during the AAN Annua
 l Meeting in Boston. Learn about the opportunities available in academic\
 , community\, and hospital-based neurology throughout Western and South C
 entral Pennsylvania.\n\nLearn More About This Event: https://www.aan.com/
 msa/Public/Events/Details/16151
DTEND;TZID=Eastern Standard Time:20230425T213000
DTSTAMP:20260424T053151Z
DTSTART;TZID=Eastern Standard Time:20230425T193000
LOCATION:https://www.aan.com/msa/Public/Events/GetEventURL/16151
SEQUENCE:0
SUMMARY:AAN: UPMC Department of Neurology Evening Reception at AAN (Non-AA
 N Sponsored Event)
UID:dd683904-35eb-4a7b-99aa-ebe1f8e92742
END:VEVENT
END:VCALENDAR
