BEGIN:VCALENDAR
PRODID:-//github.com/rianjs/ical.net//NONSGML ical.net 4.0//EN
VERSION:2.0
BEGIN:VTIMEZONE
TZID:Eastern Standard Time
X-LIC-LOCATION:America/New_York
BEGIN:STANDARD
DTSTART:20241103T020000
RRULE:FREQ=YEARLY;BYDAY=1SU;BYMONTH=11
TZNAME:EST
TZOFFSETFROM:-0400
TZOFFSETTO:-0500
END:STANDARD
BEGIN:DAYLIGHT
DTSTART:20250309T020000
RRULE:FREQ=YEARLY;BYDAY=2SU;BYMONTH=3
TZNAME:EDT
TZOFFSETFROM:-0500
TZOFFSETTO:-0400
END:DAYLIGHT
END:VTIMEZONE
BEGIN:VEVENT
DESCRIPTION:2023 Annual Meeting by the American Academy of Neurology\n\nTi
 tle: How and When to Ask Your Colleagues to Cover: Taking and Giving on a
 n Academic Team (Academic Hub)\n\nAccess URL: https://www.aan.com/msa/Pub
 lic/Events/GetEventURL/16156\n\nLearn More About This Event: https://www.
 aan.com/msa/Public/Events/Details/16156
DTEND;TZID=Eastern Standard Time:20230423T074500
DTSTAMP:20260424T053311Z
DTSTART;TZID=Eastern Standard Time:20230423T070000
LOCATION:https://www.aan.com/msa/Public/Events/GetEventURL/16156
SEQUENCE:0
SUMMARY:AAN: How and When to Ask Your Colleagues to Cover: Taking and Givi
 ng on an Academic Team (Academic Hub)
UID:7a62282d-e1b3-4495-836c-16f4a2a47a07
END:VEVENT
END:VCALENDAR
