BEGIN:VCALENDAR
PRODID:-//github.com/rianjs/ical.net//NONSGML ical.net 4.0//EN
VERSION:2.0
BEGIN:VTIMEZONE
TZID:Eastern Standard Time
X-LIC-LOCATION:America/New_York
BEGIN:STANDARD
DTSTART:20241103T020000
RRULE:FREQ=YEARLY;BYDAY=1SU;BYMONTH=11
TZNAME:EST
TZOFFSETFROM:-0400
TZOFFSETTO:-0500
END:STANDARD
BEGIN:DAYLIGHT
DTSTART:20250309T020000
RRULE:FREQ=YEARLY;BYDAY=2SU;BYMONTH=3
TZNAME:EDT
TZOFFSETFROM:-0500
TZOFFSETTO:-0400
END:DAYLIGHT
END:VTIMEZONE
BEGIN:VEVENT
DESCRIPTION:2023 Annual Meeting by the American Academy of Neurology\n\nTi
 tle: A Career in Neuro-Oncology: Joint AAN-SNO Mentoring Session (Non-AAN
  Sponsored Event)\n\nDescription: Joint event by AAN Neuro-Oncology Secti
 on and Society for Neuro-Oncology to mentor trainees in any stage of thei
 r career path about the career opportunities in neuro-oncology. Participa
 nts will choose from a variety of mentoring hubs lead by Neuro-oncologist
 s who have a career focus in practice\, science\, education\, DEI\, advoc
 acy and leadership.  There will also be the opportunity for one on one me
 ntoring with neuro-oncologists as well as peer networking for residents\,
  fellows and early career faculty.  \n\nLearn More About This Event: http
 s://www.aan.com/msa/Public/Events/Details/16165
DTEND;TZID=Eastern Standard Time:20230423T180000
DTSTAMP:20260424T053156Z
DTSTART;TZID=Eastern Standard Time:20230423T160000
LOCATION:https://www.aan.com/msa/Public/Events/GetEventURL/16165
SEQUENCE:0
SUMMARY:AAN: A Career in Neuro-Oncology: Joint AAN-SNO Mentoring Session (
 Non-AAN Sponsored Event)
UID:d467257e-cad5-4e6b-93ce-31d30b40646d
END:VEVENT
END:VCALENDAR
