BEGIN:VCALENDAR
PRODID:-//github.com/rianjs/ical.net//NONSGML ical.net 4.0//EN
VERSION:2.0
BEGIN:VTIMEZONE
TZID:Eastern Standard Time
X-LIC-LOCATION:America/New_York
BEGIN:STANDARD
DTSTART:20241103T020000
RRULE:FREQ=YEARLY;BYDAY=1SU;BYMONTH=11
TZNAME:EST
TZOFFSETFROM:-0400
TZOFFSETTO:-0500
END:STANDARD
BEGIN:DAYLIGHT
DTSTART:20250309T020000
RRULE:FREQ=YEARLY;BYDAY=2SU;BYMONTH=3
TZNAME:EDT
TZOFFSETFROM:-0500
TZOFFSETTO:-0400
END:DAYLIGHT
END:VTIMEZONE
BEGIN:VEVENT
DESCRIPTION:2023 Annual Meeting by the American Academy of Neurology\n\nTi
 tle: Integrating Advanced Practice Providers into Academic Neurology (Aca
 demic Hub)\n\nAccess URL: https://www.aan.com/msa/Public/Events/GetEventU
 RL/16188\n\nLearn More About This Event: https://www.aan.com/msa/Public/E
 vents/Details/16188
DTEND;TZID=Eastern Standard Time:20230424T074500
DTSTAMP:20260424T053454Z
DTSTART;TZID=Eastern Standard Time:20230424T070000
LOCATION:https://www.aan.com/msa/Public/Events/GetEventURL/16188
SEQUENCE:0
SUMMARY:AAN: Integrating Advanced Practice Providers into Academic Neurolo
 gy (Academic Hub)
UID:3d68582b-455c-4b4f-8594-2416fe21c6ef
END:VEVENT
END:VCALENDAR
