BEGIN:VCALENDAR
PRODID:-//github.com/rianjs/ical.net//NONSGML ical.net 4.0//EN
VERSION:2.0
BEGIN:VTIMEZONE
TZID:Eastern Standard Time
X-LIC-LOCATION:America/New_York
BEGIN:STANDARD
DTSTART:20241103T020000
RRULE:FREQ=YEARLY;BYDAY=1SU;BYMONTH=11
TZNAME:EST
TZOFFSETFROM:-0400
TZOFFSETTO:-0500
END:STANDARD
BEGIN:DAYLIGHT
DTSTART:20250309T020000
RRULE:FREQ=YEARLY;BYDAY=2SU;BYMONTH=3
TZNAME:EDT
TZOFFSETFROM:-0500
TZOFFSETTO:-0400
END:DAYLIGHT
END:VTIMEZONE
BEGIN:VEVENT
DESCRIPTION:2023 Annual Meeting by the American Academy of Neurology\n\nTi
 tle: Exploring the Victories and Defeats of Feeling Like an Imposter (Aca
 demic Hub)\n\nAccess URL: https://www.aan.com/msa/Public/Events/GetEventU
 RL/16189\n\nLearn More About This Event: https://www.aan.com/msa/Public/E
 vents/Details/16189
DTEND;TZID=Eastern Standard Time:20230424T114500
DTSTAMP:20260424T053313Z
DTSTART;TZID=Eastern Standard Time:20230424T110000
LOCATION:https://www.aan.com/msa/Public/Events/GetEventURL/16189
SEQUENCE:0
SUMMARY:AAN: Exploring the Victories and Defeats of Feeling Like an Impost
 er (Academic Hub)
UID:a10b776d-6c1a-4100-843b-acf7cfcd5403
END:VEVENT
END:VCALENDAR
