BEGIN:VCALENDAR
PRODID:-//github.com/rianjs/ical.net//NONSGML ical.net 4.0//EN
VERSION:2.0
BEGIN:VTIMEZONE
TZID:Eastern Standard Time
X-LIC-LOCATION:America/New_York
BEGIN:STANDARD
DTSTART:20241103T020000
RRULE:FREQ=YEARLY;BYDAY=1SU;BYMONTH=11
TZNAME:EST
TZOFFSETFROM:-0400
TZOFFSETTO:-0500
END:STANDARD
BEGIN:DAYLIGHT
DTSTART:20250309T020000
RRULE:FREQ=YEARLY;BYDAY=2SU;BYMONTH=3
TZNAME:EDT
TZOFFSETFROM:-0500
TZOFFSETTO:-0400
END:DAYLIGHT
END:VTIMEZONE
BEGIN:VEVENT
DESCRIPTION:2023 Annual Meeting by the American Academy of Neurology\n\nTi
 tle: Run/Walk for Brain Research\n\nDescription: The 2023 Run/Walk for Br
 ain Research will take place on Tuesday\, April 25 from 6:30 a.m.-8:00 a.
 m. along the waterfront at Castle Island in Boston.\n\nThere will be busi
 ng for Run/Walk attendees from select hotels to and from the location for
  Run/Walk.\n\nLearn More About This Event: https://www.aan.com/msa/Public
 /Events/Details/16216
DTEND;TZID=Eastern Standard Time:20230425T080000
DTSTAMP:20260424T053453Z
DTSTART;TZID=Eastern Standard Time:20230425T063000
LOCATION:https://www.aan.com/msa/Public/Events/GetEventURL/16216
SEQUENCE:0
SUMMARY:AAN: Run/Walk for Brain Research
UID:7c89b679-0184-437c-a069-82b293918713
END:VEVENT
END:VCALENDAR
