BEGIN:VCALENDAR
PRODID:-//github.com/rianjs/ical.net//NONSGML ical.net 4.0//EN
VERSION:2.0
BEGIN:VTIMEZONE
TZID:Eastern Standard Time
X-LIC-LOCATION:America/New_York
BEGIN:STANDARD
DTSTART:20241103T020000
RRULE:FREQ=YEARLY;BYDAY=1SU;BYMONTH=11
TZNAME:EST
TZOFFSETFROM:-0400
TZOFFSETTO:-0500
END:STANDARD
BEGIN:DAYLIGHT
DTSTART:20250309T020000
RRULE:FREQ=YEARLY;BYDAY=2SU;BYMONTH=3
TZNAME:EDT
TZOFFSETFROM:-0500
TZOFFSETTO:-0400
END:DAYLIGHT
END:VTIMEZONE
BEGIN:VEVENT
DESCRIPTION:2023 Annual Meeting by the American Academy of Neurology\n\nTi
 tle: How to Contribute to the Neurology® Resident & Fellow Section (Train
 ee and Educator Hub)\n\nAccess URL: https://www.aan.com/msa/Public/Events
 /GetEventURL/16220\n\nLearn More About This Event: https://www.aan.com/ms
 a/Public/Events/Details/16220
DTEND;TZID=Eastern Standard Time:20230425T134500
DTSTAMP:20260424T053302Z
DTSTART;TZID=Eastern Standard Time:20230425T131500
LOCATION:https://www.aan.com/msa/Public/Events/GetEventURL/16220
SEQUENCE:0
SUMMARY:AAN: How to Contribute to the Neurology® Resident & Fellow Section
  (Trainee and Educator Hub)
UID:c92493cf-7d2f-4452-9efc-cb01c1ba3fed
END:VEVENT
END:VCALENDAR
