BEGIN:VCALENDAR
PRODID:-//github.com/rianjs/ical.net//NONSGML ical.net 4.0//EN
VERSION:2.0
BEGIN:VTIMEZONE
TZID:Eastern Standard Time
X-LIC-LOCATION:America/New_York
BEGIN:STANDARD
DTSTART:20241103T020000
RRULE:FREQ=YEARLY;BYDAY=1SU;BYMONTH=11
TZNAME:EST
TZOFFSETFROM:-0400
TZOFFSETTO:-0500
END:STANDARD
BEGIN:DAYLIGHT
DTSTART:20250309T020000
RRULE:FREQ=YEARLY;BYDAY=2SU;BYMONTH=3
TZNAME:EDT
TZOFFSETFROM:-0500
TZOFFSETTO:-0400
END:DAYLIGHT
END:VTIMEZONE
BEGIN:VEVENT
DESCRIPTION:2023 Annual Meeting by the American Academy of Neurology\n\nTi
 tle: Advanced Career Researchers—When Is It Time to Pass the Torch? (Rese
 arch Hub)\n\nAccess URL: https://www.aan.com/msa/Public/Events/GetEventUR
 L/16222\n\nLearn More About This Event: https://www.aan.com/msa/Public/Ev
 ents/Details/16222
DTEND;TZID=Eastern Standard Time:20230422T144500
DTSTAMP:20260424T053430Z
DTSTART;TZID=Eastern Standard Time:20230422T140000
LOCATION:https://www.aan.com/msa/Public/Events/GetEventURL/16222
SEQUENCE:0
SUMMARY:AAN: Advanced Career Researchers—When Is It Time to Pass the Torch
 ? (Research Hub)
UID:a037b68a-9aea-4c23-8480-bf4bdfc95cd4
END:VEVENT
END:VCALENDAR
