BEGIN:VCALENDAR
PRODID:-//github.com/rianjs/ical.net//NONSGML ical.net 4.0//EN
VERSION:2.0
BEGIN:VTIMEZONE
TZID:Eastern Standard Time
X-LIC-LOCATION:America/New_York
BEGIN:STANDARD
DTSTART:20241103T020000
RRULE:FREQ=YEARLY;BYDAY=1SU;BYMONTH=11
TZNAME:EST
TZOFFSETFROM:-0400
TZOFFSETTO:-0500
END:STANDARD
BEGIN:DAYLIGHT
DTSTART:20250309T020000
RRULE:FREQ=YEARLY;BYDAY=2SU;BYMONTH=3
TZNAME:EDT
TZOFFSETFROM:-0500
TZOFFSETTO:-0400
END:DAYLIGHT
END:VTIMEZONE
BEGIN:VEVENT
DESCRIPTION:2023 Annual Meeting by the American Academy of Neurology\n\nTi
 tle: An Introduction to the Patient-centered Outcomes Research Institute 
 (PCORI) (Research Hub)\n\nAccess URL: https://www.aan.com/msa/Public/Even
 ts/GetEventURL/16223\n\nLearn More About This Event: https://www.aan.com/
 msa/Public/Events/Details/16223
DTEND;TZID=Eastern Standard Time:20230422T164500
DTSTAMP:20260424T053421Z
DTSTART;TZID=Eastern Standard Time:20230422T160000
LOCATION:https://www.aan.com/msa/Public/Events/GetEventURL/16223
SEQUENCE:0
SUMMARY:AAN: An Introduction to the Patient-centered Outcomes Research Ins
 titute (PCORI) (Research Hub)
UID:72c431c8-f58e-4b37-973a-fdadd3b6e985
END:VEVENT
END:VCALENDAR
