BEGIN:VCALENDAR
PRODID:-//github.com/rianjs/ical.net//NONSGML ical.net 4.0//EN
VERSION:2.0
BEGIN:VTIMEZONE
TZID:Eastern Standard Time
X-LIC-LOCATION:America/New_York
BEGIN:STANDARD
DTSTART:20241103T020000
RRULE:FREQ=YEARLY;BYDAY=1SU;BYMONTH=11
TZNAME:EST
TZOFFSETFROM:-0400
TZOFFSETTO:-0500
END:STANDARD
BEGIN:DAYLIGHT
DTSTART:20250309T020000
RRULE:FREQ=YEARLY;BYDAY=2SU;BYMONTH=3
TZNAME:EDT
TZOFFSETFROM:-0500
TZOFFSETTO:-0400
END:DAYLIGHT
END:VTIMEZONE
BEGIN:VEVENT
DESCRIPTION:2023 Annual Meeting by the American Academy of Neurology\n\nTi
 tle: Hope Message: Get Inspired (Research Hub)\n\nAccess URL: https://www
 .aan.com/msa/Public/Events/GetEventURL/16232\n\nLearn More About This Eve
 nt: https://www.aan.com/msa/Public/Events/Details/16232
DTEND;TZID=Eastern Standard Time:20230424T124500
DTSTAMP:20260423T213553Z
DTSTART;TZID=Eastern Standard Time:20230424T123000
LOCATION:https://www.aan.com/msa/Public/Events/GetEventURL/16232
SEQUENCE:0
SUMMARY:AAN: Hope Message: Get Inspired (Research Hub)
UID:9192a8ab-7a08-4a2b-b1e6-1cd2a31f4f60
END:VEVENT
END:VCALENDAR
