BEGIN:VCALENDAR
PRODID:-//github.com/rianjs/ical.net//NONSGML ical.net 4.0//EN
VERSION:2.0
BEGIN:VTIMEZONE
TZID:Eastern Standard Time
X-LIC-LOCATION:America/New_York
BEGIN:STANDARD
DTSTART:20241103T020000
RRULE:FREQ=YEARLY;BYDAY=1SU;BYMONTH=11
TZNAME:EST
TZOFFSETFROM:-0400
TZOFFSETTO:-0500
END:STANDARD
BEGIN:DAYLIGHT
DTSTART:20250309T020000
RRULE:FREQ=YEARLY;BYDAY=2SU;BYMONTH=3
TZNAME:EDT
TZOFFSETFROM:-0500
TZOFFSETTO:-0400
END:DAYLIGHT
END:VTIMEZONE
BEGIN:VEVENT
DESCRIPTION:2023 Annual Meeting by the American Academy of Neurology\n\nTi
 tle: Foramina! A Game of Luck and Skull (Trainee and Educator Hub)\n\nAcc
 ess URL: https://www.aan.com/msa/Public/Events/GetEventURL/16257\n\nLearn
  More About This Event: https://www.aan.com/msa/Public/Events/Details/162
 57
DTEND;TZID=Eastern Standard Time:20230425T171500
DTSTAMP:20260424T053300Z
DTSTART;TZID=Eastern Standard Time:20230425T161500
LOCATION:https://www.aan.com/msa/Public/Events/GetEventURL/16257
SEQUENCE:0
SUMMARY:AAN: Foramina! A Game of Luck and Skull (Trainee and Educator Hub)
UID:d4fcb156-0d1f-4748-bbc9-f61edcf4920c
END:VEVENT
END:VCALENDAR
