BEGIN:VCALENDAR
PRODID:-//github.com/rianjs/ical.net//NONSGML ical.net 4.0//EN
VERSION:2.0
BEGIN:VTIMEZONE
TZID:Eastern Standard Time
X-LIC-LOCATION:America/New_York
BEGIN:STANDARD
DTSTART:20241103T020000
RRULE:FREQ=YEARLY;BYDAY=1SU;BYMONTH=11
TZNAME:EST
TZOFFSETFROM:-0400
TZOFFSETTO:-0500
END:STANDARD
BEGIN:DAYLIGHT
DTSTART:20250309T020000
RRULE:FREQ=YEARLY;BYDAY=2SU;BYMONTH=3
TZNAME:EDT
TZOFFSETFROM:-0500
TZOFFSETTO:-0400
END:DAYLIGHT
END:VTIMEZONE
BEGIN:VEVENT
DESCRIPTION:2023 Annual Meeting by the American Academy of Neurology\n\nTi
 tle: General Neurology in Academic Practice (Trainee and Educator Hub)\n\
 nAccess URL: https://www.aan.com/msa/Public/Events/GetEventURL/16259\n\nL
 earn More About This Event: https://www.aan.com/msa/Public/Events/Details
 /16259
DTEND;TZID=Eastern Standard Time:20230426T090000
DTSTAMP:20260423T214038Z
DTSTART;TZID=Eastern Standard Time:20230426T080000
LOCATION:https://www.aan.com/msa/Public/Events/GetEventURL/16259
SEQUENCE:0
SUMMARY:AAN: General Neurology in Academic Practice (Trainee and Educator 
 Hub)
UID:02498b82-c252-4125-94ba-0f3b99de46d1
END:VEVENT
END:VCALENDAR
