BEGIN:VCALENDAR
PRODID:-//github.com/rianjs/ical.net//NONSGML ical.net 4.0//EN
VERSION:2.0
BEGIN:VTIMEZONE
TZID:Eastern Standard Time
X-LIC-LOCATION:America/New_York
BEGIN:STANDARD
DTSTART:20241103T020000
RRULE:FREQ=YEARLY;BYDAY=1SU;BYMONTH=11
TZNAME:EST
TZOFFSETFROM:-0400
TZOFFSETTO:-0500
END:STANDARD
BEGIN:DAYLIGHT
DTSTART:20250309T020000
RRULE:FREQ=YEARLY;BYDAY=2SU;BYMONTH=3
TZNAME:EDT
TZOFFSETFROM:-0500
TZOFFSETTO:-0400
END:DAYLIGHT
END:VTIMEZONE
BEGIN:VEVENT
DESCRIPTION:2023 Annual Meeting by the American Academy of Neurology\n\nTi
 tle: Game: A Brief History of the AAN—In MadLibs (Trainee and Educator Hu
 b)\n\nAccess URL: https://www.aan.com/msa/Public/Events/GetEventURL/16260
 \n\nLearn More About This Event: https://www.aan.com/msa/Public/Events/De
 tails/16260
DTEND;TZID=Eastern Standard Time:20230427T133000
DTSTAMP:20260424T053430Z
DTSTART;TZID=Eastern Standard Time:20230427T130000
LOCATION:https://www.aan.com/msa/Public/Events/GetEventURL/16260
SEQUENCE:0
SUMMARY:AAN: Game: A Brief History of the AAN—In MadLibs (Trainee and Educ
 ator Hub)
UID:887361bc-f9f8-4453-83d6-0c8195ce9011
END:VEVENT
END:VCALENDAR
