BEGIN:VCALENDAR
PRODID:-//github.com/rianjs/ical.net//NONSGML ical.net 4.0//EN
VERSION:2.0
BEGIN:VTIMEZONE
TZID:Eastern Standard Time
X-LIC-LOCATION:America/New_York
BEGIN:STANDARD
DTSTART:20241103T020000
RRULE:FREQ=YEARLY;BYDAY=1SU;BYMONTH=11
TZNAME:EST
TZOFFSETFROM:-0400
TZOFFSETTO:-0500
END:STANDARD
BEGIN:DAYLIGHT
DTSTART:20250309T020000
RRULE:FREQ=YEARLY;BYDAY=2SU;BYMONTH=3
TZNAME:EDT
TZOFFSETFROM:-0500
TZOFFSETTO:-0400
END:DAYLIGHT
END:VTIMEZONE
BEGIN:VEVENT
DESCRIPTION:2023 Annual Meeting by the American Academy of Neurology\n\nTi
 tle: Developing a Needs Assessment Toolkit for Disability Inclusion in Ac
 ademic Neurology (Academic Hub)\n\nAccess URL: https://www.aan.com/msa/Pu
 blic/Events/GetEventURL/16272\n\nLearn More About This Event: https://www
 .aan.com/msa/Public/Events/Details/16272
DTEND;TZID=Eastern Standard Time:20230423T174500
DTSTAMP:20260424T053424Z
DTSTART;TZID=Eastern Standard Time:20230423T170000
LOCATION:https://www.aan.com/msa/Public/Events/GetEventURL/16272
SEQUENCE:0
SUMMARY:AAN: Developing a Needs Assessment Toolkit for Disability Inclusio
 n in Academic Neurology (Academic Hub)
UID:451a97a0-783f-4301-a2bc-2e4b2bd5ad5f
END:VEVENT
END:VCALENDAR
