BEGIN:VCALENDAR
PRODID:-//github.com/rianjs/ical.net//NONSGML ical.net 4.0//EN
VERSION:2.0
BEGIN:VTIMEZONE
TZID:Eastern Standard Time
X-LIC-LOCATION:America/New_York
BEGIN:STANDARD
DTSTART:20241103T020000
RRULE:FREQ=YEARLY;BYDAY=1SU;BYMONTH=11
TZNAME:EST
TZOFFSETFROM:-0400
TZOFFSETTO:-0500
END:STANDARD
BEGIN:DAYLIGHT
DTSTART:20250309T020000
RRULE:FREQ=YEARLY;BYDAY=2SU;BYMONTH=3
TZNAME:EDT
TZOFFSETFROM:-0500
TZOFFSETTO:-0400
END:DAYLIGHT
END:VTIMEZONE
BEGIN:VEVENT
DESCRIPTION:2023 Annual Meeting by the American Academy of Neurology\n\nTi
 tle: Clinical Research: Updates and Opportunities (Research Hub)\n\nAcces
 s URL: https://www.aan.com/msa/Public/Events/GetEventURL/16274\n\nLearn M
 ore About This Event: https://www.aan.com/msa/Public/Events/Details/16274
DTEND;TZID=Eastern Standard Time:20230424T160000
DTSTAMP:20260424T053454Z
DTSTART;TZID=Eastern Standard Time:20230424T151500
LOCATION:https://www.aan.com/msa/Public/Events/GetEventURL/16274
SEQUENCE:0
SUMMARY:AAN: Clinical Research: Updates and Opportunities (Research Hub)
UID:a039bd7a-e8f6-4c1d-a1c1-4c0b68ac37d7
END:VEVENT
END:VCALENDAR
