BEGIN:VCALENDAR
PRODID:-//github.com/rianjs/ical.net//NONSGML ical.net 4.0//EN
VERSION:2.0
BEGIN:VTIMEZONE
TZID:Eastern Standard Time
X-LIC-LOCATION:America/New_York
BEGIN:STANDARD
DTSTART:20241103T020000
RRULE:FREQ=YEARLY;BYDAY=1SU;BYMONTH=11
TZNAME:EST
TZOFFSETFROM:-0400
TZOFFSETTO:-0500
END:STANDARD
BEGIN:DAYLIGHT
DTSTART:20250309T020000
RRULE:FREQ=YEARLY;BYDAY=2SU;BYMONTH=3
TZNAME:EDT
TZOFFSETFROM:-0500
TZOFFSETTO:-0400
END:DAYLIGHT
END:VTIMEZONE
BEGIN:VEVENT
DESCRIPTION:2023 Annual Meeting by the American Academy of Neurology\n\nTi
 tle: Knowing Who You Are and What You Want (Leadership University)\n\nAcc
 ess URL: https://www.aan.com/msa/Public/Events/GetEventURL/16283\n\nLearn
  More About This Event: https://www.aan.com/msa/Public/Events/Details/162
 83
DTEND;TZID=Eastern Standard Time:20230426T160000
DTSTAMP:20260424T053311Z
DTSTART;TZID=Eastern Standard Time:20230426T150000
LOCATION:https://www.aan.com/msa/Public/Events/GetEventURL/16283
SEQUENCE:0
SUMMARY:AAN: Knowing Who You Are and What You Want (Leadership University)
UID:4a18d53d-6b4a-427a-a784-563b88b25bf6
END:VEVENT
END:VCALENDAR
