BEGIN:VCALENDAR
PRODID:-//github.com/rianjs/ical.net//NONSGML ical.net 4.0//EN
VERSION:2.0
BEGIN:VTIMEZONE
TZID:Eastern Standard Time
X-LIC-LOCATION:America/New_York
BEGIN:STANDARD
DTSTART:20241103T020000
RRULE:FREQ=YEARLY;BYDAY=1SU;BYMONTH=11
TZNAME:EST
TZOFFSETFROM:-0400
TZOFFSETTO:-0500
END:STANDARD
BEGIN:DAYLIGHT
DTSTART:20250309T020000
RRULE:FREQ=YEARLY;BYDAY=2SU;BYMONTH=3
TZNAME:EDT
TZOFFSETFROM:-0500
TZOFFSETTO:-0400
END:DAYLIGHT
END:VTIMEZONE
BEGIN:VEVENT
DESCRIPTION:2023 Annual Meeting by the American Academy of Neurology\n\nTi
 tle: Paint and Wine Session (Innovation Hub)\n\nAccess URL: https://www.a
 an.com/msa/Public/Events/GetEventURL/16288\n\nLearn More About This Event
 : https://www.aan.com/msa/Public/Events/Details/16288
DTEND;TZID=Eastern Standard Time:20230424T151500
DTSTAMP:20260423T214039Z
DTSTART;TZID=Eastern Standard Time:20230424T140000
LOCATION:https://www.aan.com/msa/Public/Events/GetEventURL/16288
SEQUENCE:0
SUMMARY:AAN: Paint and Wine Session (Innovation Hub)
UID:8c4fd75b-f291-4167-9aab-057df1dbcafe
END:VEVENT
END:VCALENDAR
